BEGIN:VCALENDAR
VERSION:2.0
PRODID:-//Gruppo Naturalistico della Brianza - Associazione per la protezione della natura in Lombardia - ONLUS - ECPv5.3.0//NONSGML v1.0//EN
CALSCALE:GREGORIAN
METHOD:PUBLISH
X-WR-CALNAME:Gruppo Naturalistico della Brianza - Associazione per la protezione della natura in Lombardia - ONLUS
X-ORIGINAL-URL:https://www.grupponaturalisticobrianza.it
X-WR-CALDESC:Eventi per Gruppo Naturalistico della Brianza - Associazione per la protezione della natura in Lombardia - ONLUS
BEGIN:VTIMEZONE
TZID:Europe/Rome
BEGIN:DAYLIGHT
TZOFFSETFROM:+0100
TZOFFSETTO:+0200
TZNAME:CEST
DTSTART:20230326T010000
END:DAYLIGHT
BEGIN:STANDARD
TZOFFSETFROM:+0200
TZOFFSETTO:+0100
TZNAME:CET
DTSTART:20231029T010000
END:STANDARD
END:VTIMEZONE
BEGIN:VEVENT
DTSTART;VALUE=DATE:20230709
DTEND;VALUE=DATE:20230710
DTSTAMP:20260425T140901
CREATED:20230623T091743Z
LAST-MODIFIED:20230623T091743Z
UID:15355-1688860800-1688947199@www.grupponaturalisticobrianza.it
SUMMARY:A piedi nudi intorno al lago di Montorfano
DESCRIPTION:Escursione\n\nDomenica 9 luglio 2023\, ore 9.30\n\nMontorfano  (CO)\nA piedi nudi intorno al lago di Montorfano\n  \nUomo e ambiente sono legati in modo indissolubile da milioni di anni. Come tutti gli esseri viventi\, anche l’uomo deve la sua evoluzione alla capacità di adattarsi all’ambiente. I nostri piedi nascono scalzi\, ma oggi è loro proibito fare quell’esperienza sensoriale a contatto con l’ambiente naturale\, fondamentale per la nostra postura\, motricità e in definitiva per la nostra salute. \nPer questo\, domenica 9 luglio\, nell’ambito del ciclo di escursioni estive gratuite nel Parco delle Groane e della Brughiera\, il gruppo “L’Ontano” di Montorfano\, con il Comitato per il Parco Regionale Groane-Brughiera\, il Gruppo Naturalistico della Brianza\, WWF Lombardia e LIPU\, invitano ad una passeggiata “A piedi nudi intorno al lago di Montorfano”\, per far riscoprire una gradevolissima esperienza sensoriale ormai dimenticata.\nLo scopo di questo evento è di invitare le persone\, grandi e piccoli\, a camminare lungo le sponde del lago e di assaporare il piacere del ricco contrasto sensoriale offerto dalla natura nel territorio protetto dalla Riserva: caldo\, freddo\, piccole asperità con i nostri piedi in piena libertà. \nRitrovo: ore 9.30 presso il parcheggio del Cimitero di Montorfano (via Molino) e partenza della camminata lungo il sentiero che costeggia il lago. Il rientro è previsto attorno alle ore 12.00. \nL’iniziativa è gratuita. \nPer informazioni e iscrizioni (obbligatorie):\nGianni del Pero\, tel. 330.225140; e-mail: delegatolombardia@wwf.it \n  \n 
URL:https://www.grupponaturalisticobrianza.it/eventi/piedi-nudi-montorfano2023-2-2/
LOCATION:Montorfano\, 22030\, Italia
CATEGORIES:Escursione
ATTACH;FMTTYPE=image/jpeg:https://www.grupponaturalisticobrianza.it/wp-content/uploads/2021/06/Lago-di-Montorfano-1250.jpg
END:VEVENT
END:VCALENDAR