BEGIN:VCALENDAR
VERSION:2.0
PRODID:-//Gruppo Naturalistico della Brianza - Associazione per la protezione della natura in Lombardia - ONLUS - ECPv5.3.0//NONSGML v1.0//EN
CALSCALE:GREGORIAN
METHOD:PUBLISH
X-WR-CALNAME:Gruppo Naturalistico della Brianza - Associazione per la protezione della natura in Lombardia - ONLUS
X-ORIGINAL-URL:https://www.grupponaturalisticobrianza.it
X-WR-CALDESC:Eventi per Gruppo Naturalistico della Brianza - Associazione per la protezione della natura in Lombardia - ONLUS
BEGIN:VTIMEZONE
TZID:Europe/Rome
BEGIN:DAYLIGHT
TZOFFSETFROM:+0100
TZOFFSETTO:+0200
TZNAME:CEST
DTSTART:20240331T010000
END:DAYLIGHT
BEGIN:STANDARD
TZOFFSETFROM:+0200
TZOFFSETTO:+0100
TZNAME:CET
DTSTART:20241027T010000
END:STANDARD
END:VTIMEZONE
BEGIN:VEVENT
DTSTART;VALUE=DATE:20240113
DTEND;VALUE=DATE:20240114
DTSTAMP:20260423T181047
CREATED:20240102T162338Z
LAST-MODIFIED:20240102T162338Z
UID:15436-1705104000-1705190399@www.grupponaturalisticobrianza.it
SUMMARY:Tavolo informativo per il nostro progetto di percorso ciclopedonale sul retro dell’area ex-Bognanco a Canzo
DESCRIPTION:Tavolo informativo progetto area ex Bognanco\nsabato 13 gennaio 2024\nore 9.30 – 17.30\nCanzo\, posteggio del supermercato Famila\nDomenica 10 settembre saremo presenti con un nostro tavolo informativo a Canzo\, in via Mazzini (vicino alla fontana) per far conoscere la nostra proposta\ndi realizzare un passaggio ciclopedonale in sicurezza sul retro dell’area ex Bognanco a Canzo\, per mantenere un collegamento in sicurezza paese-lago che non sia l’attuale marciapiede di via Volta. \nSe vuoi darci una mano per la presenza al tavolo\, contatta la Segreteria Soci\, Lena Cavallo cell. 348.8837134 (dalle 18 alle 20 da lunedì a venerdì); soci@grupponaturalisticobrianza.it. \nPer conoscere il nostro progetto \n 
URL:https://www.grupponaturalisticobrianza.it/eventi/tavolo-bognanco-2-2/
LOCATION:Canzo\, parcheggio Supermercato Famila\, Via Laguccio 1\, Canzo\, Italia
CATEGORIES:Tavolo informativo
ATTACH;FMTTYPE=image/png:https://www.grupponaturalisticobrianza.it/wp-content/uploads/2024/01/VariantePercorso.png
END:VEVENT
END:VCALENDAR