BEGIN:VCALENDAR
VERSION:2.0
PRODID:-//Gruppo Naturalistico della Brianza - Associazione per la protezione della natura in Lombardia - ONLUS - ECPv5.3.0//NONSGML v1.0//EN
CALSCALE:GREGORIAN
METHOD:PUBLISH
X-WR-CALNAME:Gruppo Naturalistico della Brianza - Associazione per la protezione della natura in Lombardia - ONLUS
X-ORIGINAL-URL:https://www.grupponaturalisticobrianza.it
X-WR-CALDESC:Eventi per Gruppo Naturalistico della Brianza - Associazione per la protezione della natura in Lombardia - ONLUS
BEGIN:VTIMEZONE
TZID:Europe/Rome
BEGIN:DAYLIGHT
TZOFFSETFROM:+0100
TZOFFSETTO:+0200
TZNAME:CEST
DTSTART:20250330T010000
END:DAYLIGHT
BEGIN:STANDARD
TZOFFSETFROM:+0200
TZOFFSETTO:+0100
TZNAME:CET
DTSTART:20251026T010000
END:STANDARD
END:VTIMEZONE
BEGIN:VEVENT
DTSTART;VALUE=DATE:20250118
DTEND;VALUE=DATE:20250119
DTSTAMP:20260422T121016
CREATED:20250111T154343Z
LAST-MODIFIED:20250111T154418Z
UID:15575-1737158400-1737244799@www.grupponaturalisticobrianza.it
SUMMARY:Da quarant’anni per la Brughiera - Escursione
DESCRIPTION:Museo di Storia Naturale\npresso il Seminario Arcivescovile di Venegono Inferiore\nSabato 18 gennaio 2025\n\n  \nIl secondo appuntamento per ricordare il bicentenario della nascita di Antonio Stoppani\, in collaborazione con l’associazione Iubilantes\, è stato spostato a sabato 18 gennaio con la visita al Museo di Storia Naturale a lui dedicato presso il Seminario Arcivescovile di Venegono Inferiore (VA)\, una straordinaria collezione di animali\, fossili e minerali\, alcuni dei quali raccolti da lui stesso\, che fu anche insegnante in Seminario. \nRitrovo: ore 9.30 al parcheggio di Piazza Mercato/via Menotti a Venegono Inferiore (VA); alle ore 10.00 comincerà la visita alla collezione museale. \nContributo di partecipazione: 5 euro (comprensivo di assicurazione e visita). \nPer informazioni e iscrizioni (obbligatorie): Segreteria Soci\, Lena Cavallo cell. 348.8837134 (dalle 18 alle 20 da lunedì a venerdì); soci@grupponaturalisticobrianza.it \n  \nPer saperne di più: https://www.seminario.milano.it/menu-museo-di-scienze-naturali/museo-di-storia-naturale-antonio-stoppani-9948.html \n  \n 
URL:https://www.grupponaturalisticobrianza.it/eventi/museo-venegono/
LOCATION:Parco delle Groane e della Brugliera
CATEGORIES:Visita guidata
ATTACH;FMTTYPE=image/jpeg:https://www.grupponaturalisticobrianza.it/wp-content/uploads/2025/01/Museo-Venegono-Inferiore.jpg
END:VEVENT
END:VCALENDAR