BEGIN:VCALENDAR
VERSION:2.0
PRODID:-//Gruppo Naturalistico della Brianza - Associazione per la protezione della natura in Lombardia - ONLUS - ECPv5.3.0//NONSGML v1.0//EN
CALSCALE:GREGORIAN
METHOD:PUBLISH
X-WR-CALNAME:Gruppo Naturalistico della Brianza - Associazione per la protezione della natura in Lombardia - ONLUS
X-ORIGINAL-URL:https://www.grupponaturalisticobrianza.it
X-WR-CALDESC:Eventi per Gruppo Naturalistico della Brianza - Associazione per la protezione della natura in Lombardia - ONLUS
BEGIN:VTIMEZONE
TZID:Europe/Rome
BEGIN:DAYLIGHT
TZOFFSETFROM:+0100
TZOFFSETTO:+0200
TZNAME:CEST
DTSTART:20250330T010000
END:DAYLIGHT
BEGIN:STANDARD
TZOFFSETFROM:+0200
TZOFFSETTO:+0100
TZNAME:CET
DTSTART:20251026T010000
END:STANDARD
END:VTIMEZONE
BEGIN:VEVENT
DTSTART;VALUE=DATE:20250525
DTEND;VALUE=DATE:20250526
DTSTAMP:20260421T100432
CREATED:20240423T151317Z
LAST-MODIFIED:20250422T122624Z
UID:15476-1748131200-1748217599@www.grupponaturalisticobrianza.it
SUMMARY:Assemblea ordinaria del Gruppo Naturalistico della Brianza 2025
DESCRIPTION:Assemblea ordinaria del Gruppo Naturalistico della Brianza ODV\nDomenica 25 maggio 2025\, ore 14.30\npresso la nostra sede in Villa Meda (ex Stelline)\nCanzo\n(via Meda 40)\nOrdine del giorno:\n1. Relazione del Presidente\n2. Approvazione del Bilancio Consuntivo 2024\n4. Approvazione quote sociali 2026\n5. Attività 2025\n5. Varie ed eventuali \nCanzo è raggiungibile da Como ed Erba con l’autobus ASF C49 Como – Erba – Asso (per gli orari si può consultare il sito internet di ASF Autolinee) o da Milano con il treno Milano – Erba -Asso\, Stazione di Canzo (per gli orari si può consultare il sito internet di Trenord). \nLa sede si trova al secondo piano\, con entrata dal secondo cortile sulla destra. \nIn questa occasione sarà possibile iscriversi o rinnovare l’iscrizione all’Associazione. \n  \nVi invitiamo caldamente a partecipare a questo importante momento della nostra vita associativa!\n  \n  \n 
URL:https://www.grupponaturalisticobrianza.it/eventi/assemblea-2025-2/
LOCATION:Valmadrera\, Via Fatebenefratelli 6\, Valmadrera
CATEGORIES:Assemblea
ATTACH;FMTTYPE=image/png:https://www.grupponaturalisticobrianza.it/wp-content/uploads/2016/10/logo-grande-gruppo-naturalistico.png
END:VEVENT
END:VCALENDAR