BEGIN:VCALENDAR
VERSION:2.0
PRODID:-//Gruppo Naturalistico della Brianza - Associazione per la protezione della natura in Lombardia - ONLUS - ECPv5.3.0//NONSGML v1.0//EN
CALSCALE:GREGORIAN
METHOD:PUBLISH
X-WR-CALNAME:Gruppo Naturalistico della Brianza - Associazione per la protezione della natura in Lombardia - ONLUS
X-ORIGINAL-URL:https://www.grupponaturalisticobrianza.it
X-WR-CALDESC:Eventi per Gruppo Naturalistico della Brianza - Associazione per la protezione della natura in Lombardia - ONLUS
BEGIN:VTIMEZONE
TZID:Europe/Rome
BEGIN:DAYLIGHT
TZOFFSETFROM:+0100
TZOFFSETTO:+0200
TZNAME:CEST
DTSTART:20240331T010000
END:DAYLIGHT
BEGIN:STANDARD
TZOFFSETFROM:+0200
TZOFFSETTO:+0100
TZNAME:CET
DTSTART:20241027T010000
END:STANDARD
END:VTIMEZONE
BEGIN:VEVENT
DTSTART;VALUE=DATE:20240504
DTEND;VALUE=DATE:20240505
DTSTAMP:20260423T003557
CREATED:20240423T134221Z
LAST-MODIFIED:20240429T123254Z
UID:15467-1714780800-1714867199@www.grupponaturalisticobrianza.it
SUMMARY:Nella valle del Cosia
DESCRIPTION:Escursione\nNella Valle del Cosia\nSabato 4 maggio\, ore 9.30\nCamnago Volta\nNell’ambito della quarta edizione del festival Ecolario\, primo festival ambientale del lago di Como\, il Circolo Legambiente “Angelo Vassallo” Como\, Auser “Oltre lo Sguardo”\, con la collaborazione del Gruppo Naturalistico della Brianza propongono per sabato 4 maggio una camminata nel Parco della Valle del Cosia\, tra Camnago Volta e Tavernerio\, alla scoperta (o alla riscoperta) di quest’area protetta e delle memorie legate ad Alessandro Volta. \nRitrovo: ore 9.30 in Piazza Martignoni a Camnago Volta. \nSi tratta di un agevole percorso ad anello di 7 chilometri circa\, all’andata lungo la Passeggiata Voltiana (la vecchia via del tram\, sterrata) e al ritorno lungo un piacevole sentiero nel bosco che costeggia il torrente Cosia. È richiesto l’uso di scarpe comode o scarponcini leggeri. \nAl termine dell’escursione (ore 13.00 circa)\, aperitivo presso il Centro Civico di Camnago Volta. \nPer informazioni ed iscrizioni clicca qui \nPer maggiori informazioni sul Festival Ecolario clicca qui \nScarica la locandina
URL:https://www.grupponaturalisticobrianza.it/eventi/valle-del-cosia/
LOCATION:Camnago Volta\, Piazza Martignoni\, Camnago Volta\, Como\, 22100\, Italia
CATEGORIES:Escursione
ATTACH;FMTTYPE=image/jpeg:https://www.grupponaturalisticobrianza.it/wp-content/uploads/2024/04/Secondo-stagno.jpeg
END:VEVENT
END:VCALENDAR