BEGIN:VCALENDAR
VERSION:2.0
PRODID:-//Gruppo Naturalistico della Brianza - Associazione per la protezione della natura in Lombardia - ONLUS - ECPv5.3.0//NONSGML v1.0//EN
CALSCALE:GREGORIAN
METHOD:PUBLISH
X-WR-CALNAME:Gruppo Naturalistico della Brianza - Associazione per la protezione della natura in Lombardia - ONLUS
X-ORIGINAL-URL:https://www.grupponaturalisticobrianza.it
X-WR-CALDESC:Eventi per Gruppo Naturalistico della Brianza - Associazione per la protezione della natura in Lombardia - ONLUS
BEGIN:VTIMEZONE
TZID:Europe/Rome
BEGIN:DAYLIGHT
TZOFFSETFROM:+0100
TZOFFSETTO:+0200
TZNAME:CEST
DTSTART:20230326T010000
END:DAYLIGHT
BEGIN:STANDARD
TZOFFSETFROM:+0200
TZOFFSETTO:+0100
TZNAME:CET
DTSTART:20231029T010000
END:STANDARD
END:VTIMEZONE
BEGIN:VEVENT
DTSTART;VALUE=DATE:20230610
DTEND;VALUE=DATE:20230611
DTSTAMP:20260423T194359
CREATED:20230318T145820Z
LAST-MODIFIED:20230405T132146Z
UID:15185-1686355200-1686441599@www.grupponaturalisticobrianza.it
SUMMARY:Primavera Naturalistica Ultimo incontro
DESCRIPTION:Per il Ciclo “Primavera Naturalistica”\nIncontro\n“A caccia di fossili dove meno te li aspetti!”\nSabato 10 giugno 2023\, ore 15.00\nSala Civica “Paolo Magretti”\nCassina Amata – Paderno Dugnano (MI)\nL’Amministrazione Comunale di Paderno Dugnano\, in collaborazione con il Gruppo Naturalistico della Brianza\, il Comitato “Paolo Magretti”\, il Circolo Legambiente di Paderno Dugnano\, il Gruppo Micologico Padernese\, l’Associazione Micologica Bresadola e il Museo Civico di Lentate sul Seveso\, nell’ambito del ciclo “Primavera Naturalistica”\, propongono per sabato 10 giugno\, alle ore 15.00\, presso la Sala Civica “Paolo Magretti” (via Fratelli Corridori 12\, Cassina Amata – Paderno Dugnano)\, l’incontro “A caccia di fossili dove meno te li aspetti!”. Relatore sarà il nostro socio Francesco Spinello\, naturalista. L’ingresso è libero. \nA seguire\, alle ore 16.00\, biciclettata al sito fossilifero di Nova Milanese\, in collaborazione con il Circolo Grugnorto di Legambiente di Paderno Dugnano e Ciclofficina Contromano. \nPer informazioni: Comune di Paderno Dugnano\, Servizi Culturali\, Sportivi\, Progetti e Promozione\, www.comune.paderno-dugnano.mi.it ; www.tilane.it \nScarica il volantino di tutti gli incontri del ciclo \n 
URL:https://www.grupponaturalisticobrianza.it/eventi/pnbici/
LOCATION:Cassina Amata – Paderno Dugnano (MI)\, Sala Civica “Paolo Magretti”\, 20037\, Italia
CATEGORIES:Biciclettata,Incontro
END:VEVENT
END:VCALENDAR