BEGIN:VCALENDAR
VERSION:2.0
PRODID:-//Gruppo Naturalistico della Brianza - Associazione per la protezione della natura in Lombardia - ONLUS - ECPv5.3.0//NONSGML v1.0//EN
CALSCALE:GREGORIAN
METHOD:PUBLISH
X-WR-CALNAME:Gruppo Naturalistico della Brianza - Associazione per la protezione della natura in Lombardia - ONLUS
X-ORIGINAL-URL:https://www.grupponaturalisticobrianza.it
X-WR-CALDESC:Eventi per Gruppo Naturalistico della Brianza - Associazione per la protezione della natura in Lombardia - ONLUS
BEGIN:VTIMEZONE
TZID:Europe/Rome
BEGIN:DAYLIGHT
TZOFFSETFROM:+0100
TZOFFSETTO:+0200
TZNAME:CEST
DTSTART:20240331T010000
END:DAYLIGHT
BEGIN:STANDARD
TZOFFSETFROM:+0200
TZOFFSETTO:+0100
TZNAME:CET
DTSTART:20241027T010000
END:STANDARD
END:VTIMEZONE
BEGIN:VEVENT
DTSTART;VALUE=DATE:20240209
DTEND;VALUE=DATE:20240210
DTSTAMP:20260423T062546
CREATED:20240102T163117Z
LAST-MODIFIED:20240102T165026Z
UID:15439-1707436800-1707523199@www.grupponaturalisticobrianza.it
SUMMARY:"Dialoghi di Pace" in memoria di Umberto Guzzi
DESCRIPTION:“Dialoghi di Pace”\nVenerdì 9 febbraio 2024\nChiesa S. Pio X (viale Marconi 129)\nCinisello Balsamo (MI)\nore 20.45\nAnche quest’anno continua la bella iniziativa dei “Dialoghi di Pace” ambrosiani (ma non solo). Questa edizione ha come titolo “Intelligenze artificiali e pace”.\nNoi vogliamo sottolineare particolarmente l’appuntamento di venerdì 9 febbraio nella chiesa di S. Pio X a Cinisello Balsamo che\, per una “provvidenziale”\, non cercata\, coincidenza\, corrisponde con l’anniversario della morte di Umberto Guzzi\, al quale molti amici desideravano dedicare un momento di musica e meditazione ispirato alle sue molteplici attività a favore dell’ambiente e del bene comune in generale (www.rudyz.net/umberto).\nSi è perciò pensato di ricordarlo dedicandogli la serata\, a maggior ragione per la sua attenzione anche alla promozione della pace: tra il 1985 e il 1995 egli portò soccorso alle popolazioni civili vittime di bombardamenti e di operazioni militari durante le guerre in Libano e Bosnia Erzegovina. Impegno che l’ha visto collaborare attivamente con diversi comitati che ha anche contribuito a fondare. In anni più recenti\, questo altruismo l’ha portato ad occuparsi di solidarietà ai migranti\, ai poveri ed agli anziani della RSA comunale: diverse sfaccettature di una sempre generosa dedizione al prossimo. \nRicordiamo che i “Dialoghi di Pace” sono una lettura scenica del messaggio che il Papa\, a Capodanno\, rivolge all’intera Umanità per la Giornata Mondiale della Pace istituita da Paolo VI nel 1967. Suddiviso fra attori-lettori\, le cui voci si intrecciano e si incalzano come in un vero e proprio dialogo e si alternano a musica e meditazioni poetiche\, il messaggio diventa opportunità di preghiera e di meditazione per tutti: non solo per chi si professa cristiano cattolico ma anche per chi si riconosce in altri riferimenti religiosi\, o non ne ha alcuno. \nL’ingresso è libero. \nCi teniamo anche a segnalare anche aspetti complementari e di “contaminazione ecologica delle attività ordinarie” che i “Dialoghi di Pace” propongono per venerdì 9 febbraio. \n\nANTEPRIMA – Scampanellata gentile per la pace: breve percorso a piedi al suono di campanellini\, tintinnaboli\, sonagli… con partenza alle ore 20.00 dal sagrato della chiesa Regina Pacis (viale Buffoli) di Cusano Milanino fino alla chiesa San Pio X di Cinisello Balsamo; a seguire l’appuntamento di “Dialoghi di Pace”.\nDOPODIALOGHI – Brindisi ecologico per la pace: aderendo all’iniziativa “Vuoi bere? Portati il bicchiere!” di Campanili Verdi (www.rudyz.net/campaniliverdi)\, per mostrare un modello facile da replicare di riduzione dello spreco di stoviglie “usa e getta”\, sempre troppo frequente in ogni appuntamento conviviale\, a tutti gli intervenuti che avranno con sé un bicchiere/tazza riutilizzabile saranno offerte bevande e prodotti del Commercio Equo e Solidale\, incluso il mate argentino in onore di papa Francesco.\nLA GRIGNA – In memoria di Umberto\, geologo che amava la natura e\, per il Gruppo Naturalistico della Brianza\, ha guidato innumerevoli escursioni sulla Grigna: montagna così familiare anche al paesaggio lombardo e con una storia geologica molto significativa\, i “Dialoghi di Pace” si concluderanno con il canto tradizionale lombardo “La leggenda della Grigna” nella versione per violoncello che è stata composta espressamente per Umberto.\n\nInoltre\, avendo scoperto che\, in molti\, questo canto suscita ricordi di nonne e mamme che lo cantavano in famiglia\, sostenuti da una formazione del coro CAI di Cinisello Balsamo\, tutti i presenti saranno invitati a cantarlo insieme nella versione originale. \nPer informazioni: Giovanni Guzzi\, tel. 02.66401390\, sanpioxc@gmail.com \nPer saperne di più e conoscere le altre date: www.rudyz.net/dialoghi; \nhttps://www.chiesadimilano.it/speciali/dialoghi-di-pace-un-evento-diocesano \nScarica la locandina dell’evento \nScarica la locandina con tutte le date
URL:https://www.grupponaturalisticobrianza.it/eventi/dialoghi-di-pace-2024-2/
LOCATION:Cinisello Balsamo\, viale Marconi 129\, Cinisello Balsamo
CATEGORIES:Per una pausa di riflessione...
ATTACH;FMTTYPE=image/jpeg:https://www.grupponaturalisticobrianza.it/wp-content/uploads/2024/01/Frontespizio-Dialoghi-di-Pace.jpg
ORGANIZER;CN="-":MAILTO:sanpioxc@gmail.com
END:VEVENT
END:VCALENDAR