BEGIN:VCALENDAR
VERSION:2.0
PRODID:-//Gruppo Naturalistico della Brianza - Associazione per la protezione della natura in Lombardia - ONLUS - ECPv5.3.0//NONSGML v1.0//EN
CALSCALE:GREGORIAN
METHOD:PUBLISH
X-WR-CALNAME:Gruppo Naturalistico della Brianza - Associazione per la protezione della natura in Lombardia - ONLUS
X-ORIGINAL-URL:https://www.grupponaturalisticobrianza.it
X-WR-CALDESC:Eventi per Gruppo Naturalistico della Brianza - Associazione per la protezione della natura in Lombardia - ONLUS
BEGIN:VTIMEZONE
TZID:Europe/Rome
BEGIN:DAYLIGHT
TZOFFSETFROM:+0100
TZOFFSETTO:+0200
TZNAME:CEST
DTSTART:20250330T010000
END:DAYLIGHT
BEGIN:STANDARD
TZOFFSETFROM:+0200
TZOFFSETTO:+0100
TZNAME:CET
DTSTART:20251026T010000
END:STANDARD
END:VTIMEZONE
BEGIN:VEVENT
DTSTART;VALUE=DATE:20250511
DTEND;VALUE=DATE:20250512
DTSTAMP:20260421T112650
CREATED:20250422T103428Z
LAST-MODIFIED:20250423T124508Z
UID:15615-1746921600-1747007999@www.grupponaturalisticobrianza.it
SUMMARY:Piante spontanee in cucina
DESCRIPTION:Dai prati alla tavola: piante spontanee in cucina\nDomenica 11 maggio 2025\, ore 9.30\nAsso\, località Scarenna\nLa Natura ci offre una incredibile varietà di piante commestibili\, che per millenni hanno sostenuto l’uomo e ne hanno consentito la sopravvivenza. Scoprire che quella pianta che magari vediamo distrattamente tutti i giorni può essere buona da mangiare\, può rivelarci un nuovo mondo fatto di saperi e sapori perduti.\nDopo il successo degli scorsi anni\, riproponiamo domenica 11 maggio l’escursione alla ricerca delle specie vegetali buone da mangiare\, organizzata sempre in collaborazione con gli amici di “Piante Spontanee in Cucina” (www.piantespontaneeincucina.info)\, quest’anno nella zona di Scarenna. \nLa scelta dell’area non è casuale: a breve inizieranno i lavori per il ripristino del collegamento con la frazione di Asso recuperando interamente la strada già esistente. Questa è una importante novità\, perché la Comunità Montana ha finalmente scelto un’alternativa all’occupazione dei prati e del sentiero lungo il Lambro prevista nel progetto iniziale\, grazie anche all’azione promossa dal Gruppo Naturalistico della Brianza e da altre Associazioni.\nLa passeggiata alla ricerca delle erbe sarà anche un bel modo per festeggiare… \nRitrovo: ore 9.30 alla Stazione di Canzo-Asso\, attendendo il treno in partenza da Milano Cadorna alle 8.09. \nSi tratta di un agevole percorso pianeggiante\, ad anello\, su strada sterrata e strada asfaltata. È richiesto l’uso di scarpe comode o scarponcini leggeri. \nContributo di partecipazione comprensivo di assicurazione: 10 euro\, max 30 iscritti. \nPer informazioni e iscrizioni (obbligatorie): Lena Cavallo cell. 348.8837134 (dalle ore 18.00 alle 20.00 da lunedì a venerdì); email soci@grupponaturalisticobrianza.it \nCome approfondimento della conoscenza delle erbe\, ci sarà la possibilità di visionare ed eventualmente acquistare le pubblicazioni di Pietro Ficarra e Stefania Scaccabarozzi. \nDurante questa attività sarà possibile associarsi o rinnovare la quota. \nL’uscita verrà annullata in caso di maltempo. \nScarica la locandina
URL:https://www.grupponaturalisticobrianza.it/eventi/piante-spontanee-in-cucina-2025-2-2/
LOCATION:Scarenna\, Asso\, Italia
CATEGORIES:Escursione
ATTACH;FMTTYPE=image/jpeg:https://www.grupponaturalisticobrianza.it/wp-content/uploads/2025/04/IMG_20250422_163314.jpg
END:VEVENT
END:VCALENDAR