BEGIN:VCALENDAR
VERSION:2.0
PRODID:-//Gruppo Naturalistico della Brianza - Associazione per la protezione della natura in Lombardia - ONLUS - ECPv5.3.0//NONSGML v1.0//EN
CALSCALE:GREGORIAN
METHOD:PUBLISH
X-WR-CALNAME:Gruppo Naturalistico della Brianza - Associazione per la protezione della natura in Lombardia - ONLUS
X-ORIGINAL-URL:https://www.grupponaturalisticobrianza.it
X-WR-CALDESC:Eventi per Gruppo Naturalistico della Brianza - Associazione per la protezione della natura in Lombardia - ONLUS
BEGIN:VTIMEZONE
TZID:Europe/Rome
BEGIN:DAYLIGHT
TZOFFSETFROM:+0100
TZOFFSETTO:+0200
TZNAME:CEST
DTSTART:20230326T010000
END:DAYLIGHT
BEGIN:STANDARD
TZOFFSETFROM:+0200
TZOFFSETTO:+0100
TZNAME:CET
DTSTART:20231029T010000
END:STANDARD
END:VTIMEZONE
BEGIN:VEVENT
DTSTART;VALUE=DATE:20230620
DTEND;VALUE=DATE:20230621
DTSTAMP:20260423T194657
CREATED:20230613T182305Z
LAST-MODIFIED:20230613T182333Z
UID:15346-1687219200-1687305599@www.grupponaturalisticobrianza.it
SUMMARY:Perché è necessario fermare subito il consumo di suolo
DESCRIPTION:Incontro\nPerché è necessario fermare subito il consumo di suolo\nMartedì 20 giugno\, ore 21.00\n\nSala Civica Mariano Comense\n(Piazza Roma 52)\n  \nI territori del Marianese e del Canturino sono tra più i più cementificati in provincia di Como e in Lombardia. Eppure questo dato non basta per fermare il consumo di suolo nel nostro territorio\, un ecosistema fragile a rischio di altre colate di cemento e di asfalto per ulteriori edificazioni e strade contenute nelle proposte di pianificazione della provincia e dei singoli comuni.\n\nSi discuterà di questi temi nell’incontro dal titolo “Perché è necessario fermare subito il consumo di suolo”\, che si terrà martedì 20 giugno\, dalle ore 21.00  presso la Sala Civica di Mariano Comense (Piazza Roma 52). Protagonista sarà il prof. Paolo Pileri\, docente di Pianificazione e progettazione urbanistica al Politecnico di Milano\, nonché divulgatore dei temi legati alla tutela del suolo.\n\nAd organizzare l’incontro le Associazioni Ambientaliste attive nel territorio: Amici della Brughiera\, Circolo Ambiente Ilaria Alpi\, Comitato Parco Regionale Groane-Brughiera\, Fridays For Future Cantù\, Gruppo Naturalistico della Brianza\, Legambiente\, No alla strada nel Parco\, Officina Mariano\, WWF Insubria\, WWF Lombardia con il patrocinio del Comune di Mariano Comense.\n\nIl prof. Paolo Pileri presenterà il suo libro “L’intelligenza del Suolo”.\nIl suolo\, la pelle del Pianeta è generoso\, bello e vivo: è un ecosistema straordinario\,  un laboratorio che trattiene e cede l’acqua\, sequestra CO2 più di qualsiasi pianta\, rende fertile la terra e permette la vita dell’intero Pianeta. Il suolo non è una superficie\, ma uno “spessore”. Questo libro fornisce un piccolo atlante di come salvare dal cemento il Suolo\, ecosistema indispensabile ma molto fragile.\n\nObiettivo dell’incontro\, secondo gli organizzatori\, è discutere dell’importanza del suolo e di come bloccarne subito il consumo anche nel nostro territorio\,  approfittando anche dei piani urbanistici in di Mariano\,  Cantù e degli altri comuni e della pianificazione territoriale provinciale con i progetti che riguardano nuove strade\, ovvero Canturina bis e Tangenzialina Ovest di Mariano\,  ai quali le Associazioni Ambientaliste ribadiranno la loro netta contrarietà.\n\nIngresso libero fino ad esaurimento dei posti .
URL:https://www.grupponaturalisticobrianza.it/eventi/suolo/
LOCATION:Sala Civica Mariano Comense\, Piazza Roma 52\, Mariano Comense\, Italia
CATEGORIES:Escursione,Incontro
ATTACH;FMTTYPE=image/png:https://www.grupponaturalisticobrianza.it/wp-content/uploads/2023/06/image.png
END:VEVENT
END:VCALENDAR